BEGIN:VCALENDAR
VERSION:2.0
PRODID:-//CPE des rires - ECPv4.5.12.3//NONSGML v1.0//EN
CALSCALE:GREGORIAN
METHOD:PUBLISH
X-WR-CALNAME:CPE des rires
X-ORIGINAL-URL:https://www.cpedesrires.com
X-WR-CALDESC:Events for CPE des rires
BEGIN:VEVENT
DTSTART;TZID=America/New_York:20211115T093000
DTEND;TZID=America/New_York:20211115T110000
DTSTAMP:20260424T175613
CREATED:20211108T162253Z
LAST-MODIFIED:20211108T162253Z
UID:5557-1636968600-1636974000@www.cpedesrires.com
SUMMARY:Activité de lecture animée
DESCRIPTION:À 9h30\, les groupes Abeilles et Papillons assisteront au CPE à une activité de lecture animée. À 10h30\, les Poissons et les Dinosaures auront aussi accès à cette expérience éducative. (animatrice: Sylvie Délire!) \n
URL:https://www.cpedesrires.com/event/activite-de-lecture-animee/
CATEGORIES:Mont-Tremblant
END:VEVENT
END:VCALENDAR