BEGIN:VCALENDAR
VERSION:2.0
PRODID:-//CPE des rires - ECPv4.5.12.3//NONSGML v1.0//EN
CALSCALE:GREGORIAN
METHOD:PUBLISH
X-WR-CALNAME:CPE des rires
X-ORIGINAL-URL:https://www.cpedesrires.com
X-WR-CALDESC:Events for CPE des rires
BEGIN:VEVENT
DTSTART;VALUE=DATE:20240318
DTEND;VALUE=DATE:20240318
DTSTAMP:20260422T220915
CREATED:20240222T200919Z
LAST-MODIFIED:20240222T200919Z
UID:6571-1710720000-1710806399@www.cpedesrires.com
SUMMARY:Activités sur le thème de Pâques du 18-29 mars
DESCRIPTION:
URL:https://www.cpedesrires.com/event/activites-theme-de-paques-18-29-mars/
CATEGORIES:Mont-Tremblant
END:VEVENT
END:VCALENDAR