BEGIN:VCALENDAR
VERSION:2.0
PRODID:-//CPE des rires - ECPv4.5.12.3//NONSGML v1.0//EN
CALSCALE:GREGORIAN
METHOD:PUBLISH
X-WR-CALNAME:CPE des rires
X-ORIGINAL-URL:https://www.cpedesrires.com
X-WR-CALDESC:Events for CPE des rires
BEGIN:VEVENT
DTSTART;TZID=America/New_York:20220307T080000
DTEND;TZID=America/New_York:20220311T170000
DTSTAMP:20260424T120621
CREATED:20220228T200522Z
LAST-MODIFIED:20220228T200522Z
UID:5609-1646640000-1647018000@www.cpedesrires.com
SUMMARY:Atelier " On cuisine avec Martyne"
DESCRIPTION:Cette semaine\, Martyne\, notre merveilleuse responsable de l’alimentation\, visitera les groupes du CPE afin de préparer avec eux une recette. \n
URL:https://www.cpedesrires.com/event/atelier-on-cuisine-martyne/
CATEGORIES:Saint-Faustin-Lac-Carré
END:VEVENT
END:VCALENDAR