BEGIN:VCALENDAR
VERSION:2.0
PRODID:-//CPE des rires - ECPv4.5.12.3//NONSGML v1.0//EN
CALSCALE:GREGORIAN
METHOD:PUBLISH
X-WR-CALNAME:CPE des rires
X-ORIGINAL-URL:https://www.cpedesrires.com
X-WR-CALDESC:Events for CPE des rires
BEGIN:VEVENT
DTSTART;VALUE=DATE:20230828
DTEND;VALUE=DATE:20230828
DTSTAMP:20260423T070724
CREATED:20230827T154533Z
LAST-MODIFIED:20230827T215237Z
UID:6217-1693180800-1693267199@www.cpedesrires.com
SUMMARY:Bonne Rentrée
DESCRIPTION:
URL:https://www.cpedesrires.com/event/bonne-rentree/
CATEGORIES:Mont-Tremblant
END:VEVENT
END:VCALENDAR