BEGIN:VCALENDAR
VERSION:2.0
PRODID:-//CPE des rires - ECPv4.5.12.3//NONSGML v1.0//EN
CALSCALE:GREGORIAN
METHOD:PUBLISH
X-WR-CALNAME:CPE des rires
X-ORIGINAL-URL:https://www.cpedesrires.com
X-WR-CALDESC:Events for CPE des rires
BEGIN:VEVENT
DTSTART;TZID=America/New_York:20221031T080000
DTEND;TZID=America/New_York:20221031T170000
DTSTAMP:20260423T231144
CREATED:20221003T154514Z
LAST-MODIFIED:20221003T154514Z
UID:5968-1667203200-1667235600@www.cpedesrires.com
SUMMARY:C'est L'HALLOWEEN au CPE!!
DESCRIPTION:Les enfants peuvent venir déguisés au CPE.\nPrière de prévoir des vêtements de rechange puisque les costumes seront retirés pour la sieste.\nLes accessoires (épée\, baguette magique\, etc.) ne sont pas permis pour la journée.\nPrévoir un costume léger afin que votre enfant n’ait pas trop chaud dans le CPE.\nUn repas spécial sera servi pour l’occasion.\n*À noter que notre politique alimentaire ne permet pas les friandises au CPE. \n
URL:https://www.cpedesrires.com/event/cest-lhalloween-cpe-2/
CATEGORIES:Mont-Tremblant,Saint-Faustin-Lac-Carré
END:VEVENT
END:VCALENDAR