BEGIN:VCALENDAR
VERSION:2.0
PRODID:-//CPE des rires - ECPv4.5.12.3//NONSGML v1.0//EN
CALSCALE:GREGORIAN
METHOD:PUBLISH
X-WR-CALNAME:CPE des rires
X-ORIGINAL-URL:https://www.cpedesrires.com
X-WR-CALDESC:Events for CPE des rires
BEGIN:VEVENT
DTSTART;VALUE=DATE:20240515
DTEND;VALUE=DATE:20240515
DTSTAMP:20260422T183900
CREATED:20240506T153627Z
LAST-MODIFIED:20240506T153627Z
UID:6599-1715731200-1715817599@www.cpedesrires.com
SUMMARY:Collation avec les parents 9h00 à 9h30
DESCRIPTION:
URL:https://www.cpedesrires.com/event/collation-parents-9h00-a-9h30/
CATEGORIES:Mont-Tremblant
END:VEVENT
END:VCALENDAR