BEGIN:VCALENDAR
VERSION:2.0
PRODID:-//CPE des rires - ECPv4.5.12.3//NONSGML v1.0//EN
CALSCALE:GREGORIAN
METHOD:PUBLISH
X-WR-CALNAME:CPE des rires
X-ORIGINAL-URL:https://www.cpedesrires.com
X-WR-CALDESC:Events for CPE des rires
BEGIN:VEVENT
DTSTART;VALUE=DATE:20221206
DTEND;VALUE=DATE:20221206
DTSTAMP:20260423T212627
CREATED:20221124T203554Z
LAST-MODIFIED:20221124T203554Z
UID:6011-1670284800-1670371199@www.cpedesrires.com
SUMMARY:Conte Animé de Noël
DESCRIPTION:
URL:https://www.cpedesrires.com/event/conte-anime-de-noel/
CATEGORIES:Mont-Tremblant
END:VEVENT
END:VCALENDAR