BEGIN:VCALENDAR
VERSION:2.0
PRODID:-//CPE des rires - ECPv4.5.12.3//NONSGML v1.0//EN
CALSCALE:GREGORIAN
METHOD:PUBLISH
X-WR-CALNAME:CPE des rires
X-ORIGINAL-URL:https://www.cpedesrires.com
X-WR-CALDESC:Events for CPE des rires
BEGIN:VEVENT
DTSTART;VALUE=DATE:20240101
DTEND;VALUE=DATE:20240101
DTSTAMP:20260423T005845
CREATED:20230808T191637Z
LAST-MODIFIED:20230808T191748Z
UID:6110-1704067200-1704153599@www.cpedesrires.com
SUMMARY:CPE FERMÉ / Jour de l'An
DESCRIPTION:
URL:https://www.cpedesrires.com/event/cpe-ferme-jour-de-lan/
CATEGORIES:Mont-Tremblant,Saint-Faustin-Lac-Carré
END:VEVENT
END:VCALENDAR