BEGIN:VCALENDAR
VERSION:2.0
PRODID:-//CPE des rires - ECPv4.5.12.3//NONSGML v1.0//EN
CALSCALE:GREGORIAN
METHOD:PUBLISH
X-WR-CALNAME:CPE des rires
X-ORIGINAL-URL:https://www.cpedesrires.com
X-WR-CALDESC:Events for CPE des rires
BEGIN:VEVENT
DTSTART;VALUE=DATE:20230825
DTEND;VALUE=DATE:20230825
DTSTAMP:20260423T084126
CREATED:20220808T194915Z
LAST-MODIFIED:20220808T194915Z
UID:5705-1692921600-1693007999@www.cpedesrires.com
SUMMARY:CPE FERMÉ / journée pédagogique annuelle
DESCRIPTION:
URL:https://www.cpedesrires.com/event/cpe-ferme-journee-pedagogique-annuelle/
CATEGORIES:Mont-Tremblant,Saint-Faustin-Lac-Carré
END:VEVENT
END:VCALENDAR