BEGIN:VCALENDAR
VERSION:2.0
PRODID:-//CPE des rires - ECPv4.5.12.3//NONSGML v1.0//EN
CALSCALE:GREGORIAN
METHOD:PUBLISH
X-WR-CALNAME:CPE des rires
X-ORIGINAL-URL:https://www.cpedesrires.com
X-WR-CALDESC:Events for CPE des rires
BEGIN:VEVENT
DTSTART;VALUE=DATE:20231226
DTEND;VALUE=DATE:20231226
DTSTAMP:20260423T041401
CREATED:20230808T191243Z
LAST-MODIFIED:20230808T191442Z
UID:6106-1703548800-1703635199@www.cpedesrires.com
SUMMARY:CPE FERMÉ / Lendemain de Noël
DESCRIPTION:
URL:https://www.cpedesrires.com/event/cpe-ferme-lendemain-de-noel-2/
CATEGORIES:Mont-Tremblant,Saint-Faustin-Lac-Carré
END:VEVENT
END:VCALENDAR