BEGIN:VCALENDAR
VERSION:2.0
PRODID:-//CPE des rires - ECPv4.5.12.3//NONSGML v1.0//EN
CALSCALE:GREGORIAN
METHOD:PUBLISH
X-WR-CALNAME:CPE des rires
X-ORIGINAL-URL:https://www.cpedesrires.com
X-WR-CALDESC:Events for CPE des rires
BEGIN:VEVENT
DTSTART;VALUE=DATE:20240102
DTEND;VALUE=DATE:20240102
DTSTAMP:20260423T025350
CREATED:20230808T191726Z
LAST-MODIFIED:20230808T191726Z
UID:6112-1704153600-1704239999@www.cpedesrires.com
SUMMARY:CPE FERMÉ / Lendemain du jour de l'An
DESCRIPTION:
URL:https://www.cpedesrires.com/event/cpe-ferme-lendemain-jour-de-lan-2/
CATEGORIES:Mont-Tremblant,Saint-Faustin-Lac-Carré
END:VEVENT
END:VCALENDAR