BEGIN:VCALENDAR
VERSION:2.0
PRODID:-//CPE des rires - ECPv4.5.12.3//NONSGML v1.0//EN
CALSCALE:GREGORIAN
METHOD:PUBLISH
X-WR-CALNAME:CPE des rires
X-ORIGINAL-URL:https://www.cpedesrires.com
X-WR-CALDESC:Events for CPE des rires
BEGIN:VEVENT
DTSTART;VALUE=DATE:20211228
DTEND;VALUE=DATE:20211228
DTSTAMP:20260424T153841
CREATED:20210204T182105Z
LAST-MODIFIED:20210204T182105Z
UID:5119-1640649600-1640735999@www.cpedesrires.com
SUMMARY:CPE FERMÉ / report du jour férié Lendemain de Noël
DESCRIPTION:
URL:https://www.cpedesrires.com/event/cpe-ferme-report-jour-ferie-lendemain-de-noel/
CATEGORIES:Mont-Tremblant,Saint-Faustin-Lac-Carré
END:VEVENT
END:VCALENDAR