BEGIN:VCALENDAR
VERSION:2.0
PRODID:-//CPE des rires - ECPv4.5.12.3//NONSGML v1.0//EN
CALSCALE:GREGORIAN
METHOD:PUBLISH
X-WR-CALNAME:CPE des rires
X-ORIGINAL-URL:https://www.cpedesrires.com
X-WR-CALDESC:Events for CPE des rires
BEGIN:VEVENT
DTSTART;TZID=America/New_York:20210908T080000
DTEND;TZID=America/New_York:20210908T170000
DTSTAMP:20260424T230428
CREATED:20210830T182121Z
LAST-MODIFIED:20210830T182121Z
UID:5375-1631088000-1631120400@www.cpedesrires.com
SUMMARY:Épluchette de la rentrée
DESCRIPTION:Aujourd’hui\, nous célébrons la nouvelle année qui commence au CPE avec du bon maïs. \n
URL:https://www.cpedesrires.com/event/epluchette-de-rentree/
CATEGORIES:Saint-Faustin-Lac-Carré
END:VEVENT
END:VCALENDAR