BEGIN:VCALENDAR
VERSION:2.0
PRODID:-//CPE des rires - ECPv4.5.12.3//NONSGML v1.0//EN
CALSCALE:GREGORIAN
METHOD:PUBLISH
X-WR-CALNAME:CPE des rires
X-ORIGINAL-URL:https://www.cpedesrires.com
X-WR-CALDESC:Events for CPE des rires
BEGIN:VEVENT
DTSTART;VALUE=DATE:20231031
DTEND;VALUE=DATE:20231031
DTSTAMP:20260423T041513
CREATED:20230929T121720Z
LAST-MODIFIED:20230929T121939Z
UID:6308-1698710400-1698796799@www.cpedesrires.com
SUMMARY:Halloween au CPE
DESCRIPTION:Les enfants peuvent venir déguisés au CPE. prévoir des vêtements de rechange puisque les costumes seront retirés dans la journée. Prévoir un costume léger afin que votre enfant n’ait pas trop chaud dans le CPE. Un repas spécial sera servi pour l’occasion. *À noter que notre politique alimentaire ne permet pas les friandises au CPE. \n
URL:https://www.cpedesrires.com/event/halloween-au-cpe/
CATEGORIES:Saint-Faustin-Lac-Carré
END:VEVENT
END:VCALENDAR