BEGIN:VCALENDAR
VERSION:2.0
PRODID:-//CPE des rires - ECPv4.5.12.3//NONSGML v1.0//EN
CALSCALE:GREGORIAN
METHOD:PUBLISH
X-WR-CALNAME:CPE des rires
X-ORIGINAL-URL:https://www.cpedesrires.com
X-WR-CALDESC:Events for CPE des rires
BEGIN:VEVENT
DTSTART;TZID=America/New_York:20210913T080000
DTEND;TZID=America/New_York:20210917T170000
DTSTAMP:20260424T213305
CREATED:20210830T182539Z
LAST-MODIFIED:20210830T182539Z
UID:5378-1631520000-1631898000@www.cpedesrires.com
SUMMARY:J'apporte une photo de famille
DESCRIPTION:Cette semaine\, j’apporte une photo de ma famille. Je pourrais la garder avec moi au CPE toute l’année. \n
URL:https://www.cpedesrires.com/event/japporte-photo-de-famille-2/
CATEGORIES:Saint-Faustin-Lac-Carré
END:VEVENT
END:VCALENDAR