BEGIN:VCALENDAR
VERSION:2.0
PRODID:-//CPE des rires - ECPv4.5.12.3//NONSGML v1.0//EN
CALSCALE:GREGORIAN
METHOD:PUBLISH
X-WR-CALNAME:CPE des rires
X-ORIGINAL-URL:https://www.cpedesrires.com
X-WR-CALDESC:Events for CPE des rires
BEGIN:VEVENT
DTSTART;VALUE=DATE:20230112
DTEND;VALUE=DATE:20230112
DTSTAMP:20260423T195244
CREATED:20221222T145024Z
LAST-MODIFIED:20221222T145024Z
UID:6019-1673481600-1673567999@www.cpedesrires.com
SUMMARY:J'apporte un jouet
DESCRIPTION:S’il vous plaît\, pas de jouet de violence ou avec plusieurs petits morceaux \nMerci \n
URL:https://www.cpedesrires.com/event/japporte-un-jouet/
CATEGORIES:Mont-Tremblant
END:VEVENT
END:VCALENDAR