BEGIN:VCALENDAR
VERSION:2.0
PRODID:-//CPE des rires - ECPv4.5.12.3//NONSGML v1.0//EN
CALSCALE:GREGORIAN
METHOD:PUBLISH
X-WR-CALNAME:CPE des rires
X-ORIGINAL-URL:https://www.cpedesrires.com
X-WR-CALDESC:Events for CPE des rires
BEGIN:VEVENT
DTSTART;TZID=America/New_York:20230214T080000
DTEND;TZID=America/New_York:20230214T170000
DTSTAMP:20260423T195316
CREATED:20230125T193824Z
LAST-MODIFIED:20230125T193824Z
UID:6048-1676361600-1676394000@www.cpedesrires.com
SUMMARY:Journée pyjama et toutou
DESCRIPTION:Journée spéciale pour la st-Valentin! \nNous portons nos plus beaux pyjamas pour aller au CPE. \nLes enfants peuvent aussi apporter une toutou lors de cette journée. \n
URL:https://www.cpedesrires.com/event/journee-pyjama-toutou-3/
CATEGORIES:Saint-Faustin-Lac-Carré
END:VEVENT
END:VCALENDAR