BEGIN:VCALENDAR
VERSION:2.0
PRODID:-//CPE des rires - ECPv4.5.12.3//NONSGML v1.0//EN
CALSCALE:GREGORIAN
METHOD:PUBLISH
X-WR-CALNAME:CPE des rires
X-ORIGINAL-URL:https://www.cpedesrires.com
X-WR-CALDESC:Events for CPE des rires
BEGIN:VEVENT
DTSTART;VALUE=DATE:20221223
DTEND;VALUE=DATE:20221223
DTSTAMP:20260423T213440
CREATED:20221124T171524Z
LAST-MODIFIED:20221124T171524Z
UID:6005-1671753600-1671839999@www.cpedesrires.com
SUMMARY:Journée pyjama et toutou
DESCRIPTION:
URL:https://www.cpedesrires.com/event/journee-pyjama-toutou/
CATEGORIES:Saint-Faustin-Lac-Carré
END:VEVENT
END:VCALENDAR