BEGIN:VCALENDAR
VERSION:2.0
PRODID:-//CPE des rires - ECPv4.5.12.3//NONSGML v1.0//EN
CALSCALE:GREGORIAN
METHOD:PUBLISH
X-WR-CALNAME:CPE des rires
X-ORIGINAL-URL:https://www.cpedesrires.com
X-WR-CALDESC:Events for CPE des rires
BEGIN:VEVENT
DTSTART;TZID=America/New_York:20231110T080000
DTEND;TZID=America/New_York:20231110T170000
DTSTAMP:20260423T041130
CREATED:20231027T191714Z
LAST-MODIFIED:20231027T192134Z
UID:6351-1699603200-1699635600@www.cpedesrires.com
SUMMARY:Journée pyjama!
DESCRIPTION:Aujourd’hui votre enfant peut venir au CPE vêtu de son pyjama. Il peut aussi apporter son toutou préféré! \n
URL:https://www.cpedesrires.com/event/journee-pyjama/
CATEGORIES:Saint-Faustin-Lac-Carré
END:VEVENT
END:VCALENDAR