BEGIN:VCALENDAR
VERSION:2.0
PRODID:-//CPE des rires - ECPv4.5.12.3//NONSGML v1.0//EN
CALSCALE:GREGORIAN
METHOD:PUBLISH
X-WR-CALNAME:CPE des rires
X-ORIGINAL-URL:https://www.cpedesrires.com
X-WR-CALDESC:Events for CPE des rires
BEGIN:VEVENT
DTSTART;VALUE=DATE:20240925
DTEND;VALUE=DATE:20240925
DTSTAMP:20260422T005452
CREATED:20240911T145140Z
LAST-MODIFIED:20240911T145525Z
UID:6666-1727222400-1727308799@www.cpedesrires.com
SUMMARY:Séance de photos
DESCRIPTION:Petits Cœurs \nCoccinelles \nPapillons \nDinosaures \n
URL:https://www.cpedesrires.com/event/seance-de-photos-3/
CATEGORIES:Mont-Tremblant
END:VEVENT
END:VCALENDAR