BEGIN:VCALENDAR
VERSION:2.0
PRODID:-//CPE des rires - ECPv4.5.12.3//NONSGML v1.0//EN
CALSCALE:GREGORIAN
METHOD:PUBLISH
X-WR-CALNAME:CPE des rires
X-ORIGINAL-URL:https://www.cpedesrires.com
X-WR-CALDESC:Events for CPE des rires
BEGIN:VEVENT
DTSTART;VALUE=DATE:20221107
DTEND;VALUE=DATE:20221107
DTSTAMP:20260423T231518
CREATED:20221017T181535Z
LAST-MODIFIED:20221017T181535Z
UID:5975-1667779200-1667865599@www.cpedesrires.com
SUMMARY:Séance photos
DESCRIPTION:
URL:https://www.cpedesrires.com/event/seance-photos/
CATEGORIES:Saint-Faustin-Lac-Carré
END:VEVENT
END:VCALENDAR