BEGIN:VCALENDAR
VERSION:2.0
PRODID:-//CPE des rires - ECPv4.5.12.3//NONSGML v1.0//EN
CALSCALE:GREGORIAN
METHOD:PUBLISH
X-WR-CALNAME:CPE des rires
X-ORIGINAL-URL:https://www.cpedesrires.com
X-WR-CALDESC:Events for CPE des rires
BEGIN:VEVENT
DTSTART;VALUE=DATE:20220321
DTEND;VALUE=DATE:20220325
DTSTAMP:20260424T120620
CREATED:20220228T162310Z
LAST-MODIFIED:20220228T162310Z
UID:5601-1647820800-1648252799@www.cpedesrires.com
SUMMARY:Semaine de l'épicerie
DESCRIPTION:Cette semaine\, la grande salle se transforme en supermarché. Les enfants pourront y faire des jeux symboliques! \n
URL:https://www.cpedesrires.com/event/semaine-de-lepicerie/
CATEGORIES:Mont-Tremblant
END:VEVENT
END:VCALENDAR