BEGIN:VCALENDAR
VERSION:2.0
PRODID:-//CPE des rires - ECPv4.5.12.3//NONSGML v1.0//EN
CALSCALE:GREGORIAN
METHOD:PUBLISH
X-WR-CALNAME:CPE des rires
X-ORIGINAL-URL:https://www.cpedesrires.com
X-WR-CALDESC:Events for CPE des rires
BEGIN:VEVENT
DTSTART;VALUE=DATE:20220307
DTEND;VALUE=DATE:20220311
DTSTAMP:20260424T134052
CREATED:20220228T162026Z
LAST-MODIFIED:20220228T162026Z
UID:5595-1646611200-1647043199@www.cpedesrires.com
SUMMARY:Semaine des olympiades d'hiver
DESCRIPTION:Tout au long de la semaine\, la période de plein air sera consacrée à des activités de style «Olympiades d’hiver». \nGrands et petits auront BEAUCOUP de plaisir. Merci de prévoir des vêtements adéquats pour votre enfant. \n
URL:https://www.cpedesrires.com/event/semaine-olympiades-dhiver/
CATEGORIES:Mont-Tremblant
END:VEVENT
END:VCALENDAR