BEGIN:VCALENDAR
VERSION:2.0
PRODID:-//CPE des rires - ECPv4.5.12.3//NONSGML v1.0//EN
CALSCALE:GREGORIAN
METHOD:PUBLISH
X-WR-CALNAME:CPE des rires
X-ORIGINAL-URL:https://www.cpedesrires.com
X-WR-CALDESC:Events for CPE des rires
BEGIN:VEVENT
DTSTART;TZID=America/New_York:20240527T080000
DTEND;TZID=America/New_York:20240531T170000
DTSTAMP:20260422T170322
CREATED:20240424T172729Z
LAST-MODIFIED:20240424T172729Z
UID:6595-1716796800-1717174800@www.cpedesrires.com
SUMMARY:semaine québécoise des services de garde à l'enfance
DESCRIPTION:Le thème cette année est \nNos milieux; un tremplin pour l’avenir \n
URL:https://www.cpedesrires.com/event/semaine-quebecoise-services-de-garde-a-lenfance/
CATEGORIES:Mont-Tremblant
END:VEVENT
END:VCALENDAR