BEGIN:VCALENDAR
VERSION:2.0
PRODID:-//CPE des rires - ECPv4.5.12.3//NONSGML v1.0//EN
CALSCALE:GREGORIAN
METHOD:PUBLISH
X-WR-CALNAME:CPE des rires
X-ORIGINAL-URL:https://www.cpedesrires.com
X-WR-CALDESC:Events for CPE des rires
BEGIN:VEVENT
DTSTART;VALUE=DATE:20230214
DTEND;VALUE=DATE:20230214
DTSTAMP:20260423T194727
CREATED:20230130T204133Z
LAST-MODIFIED:20230130T204402Z
UID:6051-1676332800-1676419199@www.cpedesrires.com
SUMMARY:ST-VALENTIN
DESCRIPTION:On s’habille en rouge ou en rose \nUn courrier du cœur sera distribué dans la journée \nUn dîner spécial sera servi \n
URL:https://www.cpedesrires.com/event/st-valentin/
CATEGORIES:Mont-Tremblant
END:VEVENT
END:VCALENDAR