BEGIN:VCALENDAR
VERSION:2.0
PRODID:-//CPE des rires - ECPv4.5.12.3//NONSGML v1.0//EN
CALSCALE:GREGORIAN
METHOD:PUBLISH
X-WR-CALNAME:CPE des rires
X-ORIGINAL-URL:https://www.cpedesrires.com
X-WR-CALDESC:Events for CPE des rires
BEGIN:VEVENT
DTSTART;TZID=America/New_York:20210920T080000
DTEND;TZID=America/New_York:20210924T170000
DTSTAMP:20260424T213238
CREATED:20210913T170520Z
LAST-MODIFIED:20210913T170520Z
UID:5502-1632124800-1632502800@www.cpedesrires.com
SUMMARY:Programme BYE BYE LES MICROBRES!
DESCRIPTION:Programme spécial portant sur l’hygiène \n
URL:https://www.cpedesrires.com/event/programme-bye-bye-microbres/
CATEGORIES:Saint-Faustin-Lac-Carré
END:VEVENT
END:VCALENDAR