BEGIN:VCALENDAR
VERSION:2.0
PRODID:-//CPE des rires - ECPv4.5.12.3//NONSGML v1.0//EN
CALSCALE:GREGORIAN
METHOD:PUBLISH
X-WR-CALNAME:CPE des rires
X-ORIGINAL-URL:https://www.cpedesrires.com
X-WR-CALDESC:Events for CPE des rires
BEGIN:VEVENT
DTSTART;VALUE=DATE:20211011
DTEND;VALUE=DATE:20211011
DTSTAMP:20260424T200104
CREATED:20210204T181918Z
LAST-MODIFIED:20210204T181918Z
UID:5113-1633910400-1633996799@www.cpedesrires.com
SUMMARY:CPE FERMÉ / Férié de l'action de Grâces
DESCRIPTION:
URL:https://www.cpedesrires.com/event/cpe-ferme-ferie-de-laction-de-graces/
CATEGORIES:Mont-Tremblant,Saint-Faustin-Lac-Carré
END:VEVENT
END:VCALENDAR