BEGIN:VCALENDAR
VERSION:2.0
PRODID:-//CPE des rires - ECPv4.5.12.3//NONSGML v1.0//EN
CALSCALE:GREGORIAN
METHOD:PUBLISH
X-WR-CALNAME:CPE des rires
X-ORIGINAL-URL:https://www.cpedesrires.com
X-WR-CALDESC:Events for CPE des rires
BEGIN:VEVENT
DTSTART;TZID=America/New_York:20211018T080000
DTEND;TZID=America/New_York:20211022T170000
DTSTAMP:20260424T194158
CREATED:20210929T171203Z
LAST-MODIFIED:20210929T171203Z
UID:5528-1634544000-1634922000@www.cpedesrires.com
SUMMARY:Vive l'Halloween!!
DESCRIPTION:
URL:https://www.cpedesrires.com/event/vive-lhalloween/
CATEGORIES:Saint-Faustin-Lac-Carré
END:VEVENT
END:VCALENDAR