BEGIN:VCALENDAR
VERSION:2.0
PRODID:-//CPE des rires - ECPv4.5.12.3//NONSGML v1.0//EN
CALSCALE:GREGORIAN
METHOD:PUBLISH
X-WR-CALNAME:CPE des rires
X-ORIGINAL-URL:https://www.cpedesrires.com
X-WR-CALDESC:Events for CPE des rires
BEGIN:VEVENT
DTSTART;TZID=America/New_York:20211025T080000
DTEND;TZID=America/New_York:20211029T170000
DTSTAMP:20260424T195920
CREATED:20210929T171239Z
LAST-MODIFIED:20210929T171239Z
UID:5530-1635148800-1635526800@www.cpedesrires.com
SUMMARY:Vive l'Halloween!!
DESCRIPTION:
URL:https://www.cpedesrires.com/event/vive-lhalloween-2/
CATEGORIES:Saint-Faustin-Lac-Carré
END:VEVENT
BEGIN:VEVENT
DTSTART;TZID=America/New_York:20211029T070000
DTEND;TZID=America/New_York:20211029T123000
DTSTAMP:20260424T195920
CREATED:20210924T141303Z
LAST-MODIFIED:20210924T141303Z
UID:5515-1635490800-1635510600@www.cpedesrires.com
SUMMARY:C'est l'HALLOWEEN au CPE
DESCRIPTION:Les enfants peuvent venir déguisés au CPE.\nPrière de prévoir des vêtements de rechange puisque les costumes seront retirés pour la sieste.\nLes accessoires (épée\, baguette magique\, etc.) ne sont pas permis pour la journée.\nPrévoir un costume léger afin que votre enfant n’ait pas trop chaud dans le CPE.\nUn repas spécial sera servi pour l’occasion.\n*À noter que notre politique alimentaire ne permet pas les friandises au CPE. \n
URL:https://www.cpedesrires.com/event/cest-lhalloween-cpe/
CATEGORIES:Mont-Tremblant
END:VEVENT
END:VCALENDAR