BEGIN:VCALENDAR
VERSION:2.0
PRODID:-//CPE des rires - ECPv4.5.12.3//NONSGML v1.0//EN
CALSCALE:GREGORIAN
METHOD:PUBLISH
X-WR-CALNAME:CPE des rires
X-ORIGINAL-URL:https://www.cpedesrires.com
X-WR-CALDESC:Events for CPE des rires
BEGIN:VEVENT
DTSTART;VALUE=DATE:20211115
DTEND;VALUE=DATE:20211119
DTSTAMP:20260424T180605
CREATED:20211105T190105Z
LAST-MODIFIED:20211105T190105Z
UID:5553-1636934400-1637366399@www.cpedesrires.com
SUMMARY:GRANDE SEMAINE DES TOUT-PETITS
DESCRIPTION:
URL:https://www.cpedesrires.com/event/grande-semaine-petits/
CATEGORIES:Mont-Tremblant
END:VEVENT
END:VCALENDAR