BEGIN:VCALENDAR
VERSION:2.0
PRODID:-//CPE des rires - ECPv4.5.12.3//NONSGML v1.0//EN
CALSCALE:GREGORIAN
METHOD:PUBLISH
X-WR-CALNAME:CPE des rires
X-ORIGINAL-URL:https://www.cpedesrires.com
X-WR-CALDESC:Events for CPE des rires
BEGIN:VEVENT
DTSTART;TZID=America/New_York:20211206T080000
DTEND;TZID=America/New_York:20211210T170000
DTSTAMP:20260424T162854
CREATED:20211130T183008Z
LAST-MODIFIED:20211130T183008Z
UID:5573-1638777600-1639155600@www.cpedesrires.com
SUMMARY:Remise des portraits périodiques du développement de l'enfant
DESCRIPTION:
URL:https://www.cpedesrires.com/event/remise-portraits-periodiques-developpement-de-lenfant/
CATEGORIES:Mont-Tremblant
END:VEVENT
END:VCALENDAR