BEGIN:VCALENDAR
VERSION:2.0
PRODID:-//CPE des rires - ECPv4.5.12.3//NONSGML v1.0//EN
CALSCALE:GREGORIAN
METHOD:PUBLISH
X-WR-CALNAME:CPE des rires
X-ORIGINAL-URL:https://www.cpedesrires.com
X-WR-CALDESC:Events for CPE des rires
BEGIN:VEVENT
DTSTART;VALUE=DATE:20211227
DTEND;VALUE=DATE:20211227
DTSTAMP:20260424T152851
CREATED:20210204T182022Z
LAST-MODIFIED:20210204T182022Z
UID:5117-1640563200-1640649599@www.cpedesrires.com
SUMMARY:CPE FERMÉ / report du jour férié de Noël
DESCRIPTION:
URL:https://www.cpedesrires.com/event/cpe-ferme-report-jour-ferie-de-noel/
CATEGORIES:Mont-Tremblant,Saint-Faustin-Lac-Carré
END:VEVENT
END:VCALENDAR