BEGIN:VCALENDAR
VERSION:2.0
PRODID:-//CPE des rires - ECPv4.5.12.3//NONSGML v1.0//EN
CALSCALE:GREGORIAN
METHOD:PUBLISH
X-WR-CALNAME:CPE des rires
X-ORIGINAL-URL:https://www.cpedesrires.com
X-WR-CALDESC:Events for CPE des rires
BEGIN:VEVENT
DTSTART;VALUE=DATE:20220214
DTEND;VALUE=DATE:20220214
DTSTAMP:20260424T133832
CREATED:20220201T203526Z
LAST-MODIFIED:20220201T203526Z
UID:5586-1644796800-1644883199@www.cpedesrires.com
SUMMARY:St-Valentin en pyjama au CPE
DESCRIPTION:On porte notre plus beau pyjama pour aller au CPE aujourd’hui… une journée tout en confort! \n
URL:https://www.cpedesrires.com/event/st-valentin-pyjama-cpe/
CATEGORIES:Mont-Tremblant
END:VEVENT
BEGIN:VEVENT
DTSTART;TZID=America/New_York:20220214T080000
DTEND;TZID=America/New_York:20220214T170000
DTSTAMP:20260424T133832
CREATED:20220131T191922Z
LAST-MODIFIED:20220131T191922Z
UID:5584-1644825600-1644858000@www.cpedesrires.com
SUMMARY:St-Valentin💖!
DESCRIPTION:Aujourd’hui\, nous célébrons l’amour et l’amitié! \nOn met nos beaux habits et on danse! \n
URL:https://www.cpedesrires.com/event/st-valentin%f0%9f%92%96/
CATEGORIES:Saint-Faustin-Lac-Carré
END:VEVENT
END:VCALENDAR