BEGIN:VCALENDAR
VERSION:2.0
PRODID:-//CPE des rires - ECPv4.5.12.3//NONSGML v1.0//EN
CALSCALE:GREGORIAN
METHOD:PUBLISH
X-WR-CALNAME:CPE des rires
X-ORIGINAL-URL:https://www.cpedesrires.com
X-WR-CALDESC:Events for CPE des rires
BEGIN:VEVENT
DTSTART;VALUE=DATE:20220418
DTEND;VALUE=DATE:20220418
DTSTAMP:20260424T102446
CREATED:20210204T182326Z
LAST-MODIFIED:20210204T182326Z
UID:5127-1650240000-1650326399@www.cpedesrires.com
SUMMARY:CPE FERMÉ / Lundi de Pâques
DESCRIPTION:
URL:https://www.cpedesrires.com/event/cpe-ferme-lundi-de-paques-4/
CATEGORIES:Mont-Tremblant,Saint-Faustin-Lac-Carré
END:VEVENT
END:VCALENDAR