BEGIN:VCALENDAR
VERSION:2.0
PRODID:-//CPE des rires - ECPv4.5.12.3//NONSGML v1.0//EN
CALSCALE:GREGORIAN
METHOD:PUBLISH
X-WR-CALNAME:CPE des rires
X-ORIGINAL-URL:https://www.cpedesrires.com
X-WR-CALDESC:Events for CPE des rires
BEGIN:VEVENT
DTSTART;TZID=America/New_York:20220425T080000
DTEND;TZID=America/New_York:20220429T170000
DTSTAMP:20260424T102353
CREATED:20220330T185718Z
LAST-MODIFIED:20220330T185718Z
UID:5618-1650873600-1651251600@www.cpedesrires.com
SUMMARY:La ferme
DESCRIPTION:Cette semaine\, nous découvrons le thème de la ferme sous toutes ses formes; les animaux et le travail à accomplir. \n
URL:https://www.cpedesrires.com/event/la-ferme/
CATEGORIES:Saint-Faustin-Lac-Carré
END:VEVENT
BEGIN:VEVENT
DTSTART;TZID=America/New_York:20220425T080000
DTEND;TZID=America/New_York:20220429T170000
DTSTAMP:20260424T102353
CREATED:20220408T194347Z
LAST-MODIFIED:20220408T194347Z
UID:5623-1650873600-1651251600@www.cpedesrires.com
SUMMARY:Atelier GÉANT « Le monde de la ferme »
DESCRIPTION:La grande salle se transformera cette semaine en un atelier géant sous la thématique de la ferme. Tous les groupes pourront s’y présenter afin de découvrir et apprendre tout en s’amusant. \n
URL:https://www.cpedesrires.com/event/atelier-geant-monde-de-ferme/
CATEGORIES:Mont-Tremblant
END:VEVENT
END:VCALENDAR