BEGIN:VCALENDAR
VERSION:2.0
PRODID:-//CPE des rires - ECPv4.5.12.3//NONSGML v1.0//EN
CALSCALE:GREGORIAN
METHOD:PUBLISH
X-WR-CALNAME:CPE des rires
X-ORIGINAL-URL:https://www.cpedesrires.com
X-WR-CALDESC:Events for CPE des rires
BEGIN:VEVENT
DTSTART;VALUE=DATE:20220825
DTEND;VALUE=DATE:20220825
DTSTAMP:20260424T040458
CREATED:20220808T191507Z
LAST-MODIFIED:20220808T191507Z
UID:5640-1661385600-1661471999@www.cpedesrires.com
SUMMARY:Dernière journée des amis Poissons et Dinosaures
DESCRIPTION:
URL:https://www.cpedesrires.com/event/derniere-journee-amis-poissons-dinosaures/
CATEGORIES:Mont-Tremblant
END:VEVENT
END:VCALENDAR