BEGIN:VCALENDAR
VERSION:2.0
PRODID:-//CPE des rires - ECPv4.5.12.3//NONSGML v1.0//EN
CALSCALE:GREGORIAN
METHOD:PUBLISH
X-WR-CALNAME:CPE des rires
X-ORIGINAL-URL:https://www.cpedesrires.com
X-WR-CALDESC:Events for CPE des rires
BEGIN:VEVENT
DTSTART;TZID=America/New_York:20220906T080000
DTEND;TZID=America/New_York:20220916T170000
DTSTAMP:20260424T023152
CREATED:20220818T123601Z
LAST-MODIFIED:20220818T123601Z
UID:5955-1662451200-1663347600@www.cpedesrires.com
SUMMARY:Programme de prévention Bye Bye les microbes!
DESCRIPTION:
URL:https://www.cpedesrires.com/event/programme-de-prevention-bye-bye-microbes-2/
CATEGORIES:Mont-Tremblant
END:VEVENT
END:VCALENDAR