BEGIN:VCALENDAR
VERSION:2.0
PRODID:-//CPE des rires - ECPv4.5.12.3//NONSGML v1.0//EN
CALSCALE:GREGORIAN
METHOD:PUBLISH
X-WR-CALNAME:CPE des rires
X-ORIGINAL-URL:https://www.cpedesrires.com
X-WR-CALDESC:Events for CPE des rires
BEGIN:VEVENT
DTSTART;VALUE=DATE:20221010
DTEND;VALUE=DATE:20221010
DTSTAMP:20260424T005028
CREATED:20220808T193724Z
LAST-MODIFIED:20220808T193724Z
UID:5683-1665360000-1665446399@www.cpedesrires.com
SUMMARY:CPE FERMÉ / action de grâces
DESCRIPTION:
URL:https://www.cpedesrires.com/event/cpe-ferme-action-de-graces/
CATEGORIES:Mont-Tremblant,Saint-Faustin-Lac-Carré
END:VEVENT
END:VCALENDAR