BEGIN:VCALENDAR
VERSION:2.0
PRODID:-//CPE des rires - ECPv4.5.12.3//NONSGML v1.0//EN
CALSCALE:GREGORIAN
METHOD:PUBLISH
X-WR-CALNAME:CPE des rires
X-ORIGINAL-URL:https://www.cpedesrires.com
X-WR-CALDESC:Events for CPE des rires
BEGIN:VEVENT
DTSTART;VALUE=DATE:20221107
DTEND;VALUE=DATE:20221111
DTSTAMP:20260423T231326
CREATED:20221101T171627Z
LAST-MODIFIED:20221101T171627Z
UID:5979-1667779200-1668211199@www.cpedesrires.com
SUMMARY:J'apporte un livre de ma maison
DESCRIPTION:
URL:https://www.cpedesrires.com/event/japporte-livre-de-maison/
CATEGORIES:Saint-Faustin-Lac-Carré
END:VEVENT
END:VCALENDAR