BEGIN:VCALENDAR
VERSION:2.0
PRODID:-//CPE des rires - ECPv4.5.12.3//NONSGML v1.0//EN
CALSCALE:GREGORIAN
METHOD:PUBLISH
X-WR-CALNAME:CPE des rires
X-ORIGINAL-URL:https://www.cpedesrires.com
X-WR-CALDESC:Events for CPE des rires
BEGIN:VEVENT
DTSTART;VALUE=DATE:20221124
DTEND;VALUE=DATE:20221124
DTSTAMP:20260423T231345
CREATED:20221101T171954Z
LAST-MODIFIED:20221101T171954Z
UID:5984-1669248000-1669334399@www.cpedesrires.com
SUMMARY:Journée motricité aire ouverte
DESCRIPTION:
URL:https://www.cpedesrires.com/event/journee-motricite-aire-ouverte/
CATEGORIES:Saint-Faustin-Lac-Carré
END:VEVENT
END:VCALENDAR