BEGIN:VCALENDAR
VERSION:2.0
PRODID:-//CPE des rires - ECPv4.5.12.3//NONSGML v1.0//EN
CALSCALE:GREGORIAN
METHOD:PUBLISH
X-WR-CALNAME:CPE des rires
X-ORIGINAL-URL:https://www.cpedesrires.com
X-WR-CALDESC:Events for CPE des rires
BEGIN:VEVENT
DTSTART;VALUE=DATE:20221212
DTEND;VALUE=DATE:20221216
DTSTAMP:20260423T231341
CREATED:20221124T171044Z
LAST-MODIFIED:20221124T171044Z
UID:5997-1670803200-1671235199@www.cpedesrires.com
SUMMARY:la semaine des métiers d'arts
DESCRIPTION:
URL:https://www.cpedesrires.com/event/semaine-metiers-darts-2/
CATEGORIES:Saint-Faustin-Lac-Carré
END:VEVENT
BEGIN:VEVENT
DTSTART;VALUE=DATE:20221212
DTEND;VALUE=DATE:20221212
DTSTAMP:20260423T231341
CREATED:20221124T203438Z
LAST-MODIFIED:20221124T203438Z
UID:6007-1670803200-1670889599@www.cpedesrires.com
SUMMARY:On décore des biscuits de Noël
DESCRIPTION:
URL:https://www.cpedesrires.com/event/on-decore-biscuits-de-noel-2/
CATEGORIES:Mont-Tremblant
END:VEVENT
END:VCALENDAR