BEGIN:VCALENDAR
VERSION:2.0
PRODID:-//CPE des rires - ECPv4.5.12.3//NONSGML v1.0//EN
CALSCALE:GREGORIAN
METHOD:PUBLISH
X-WR-CALNAME:CPE des rires
X-ORIGINAL-URL:https://www.cpedesrires.com
X-WR-CALDESC:Events for CPE des rires
BEGIN:VEVENT
DTSTART;VALUE=DATE:20221221
DTEND;VALUE=DATE:20221221
DTSTAMP:20260423T212848
CREATED:20221124T203512Z
LAST-MODIFIED:20221124T203512Z
UID:6009-1671580800-1671667199@www.cpedesrires.com
SUMMARY:Journée pyjama et toutou
DESCRIPTION:
URL:https://www.cpedesrires.com/event/journee-pyjama-toutou-2/
CATEGORIES:Mont-Tremblant
END:VEVENT
END:VCALENDAR