BEGIN:VCALENDAR
VERSION:2.0
PRODID:-//CPE des rires - ECPv4.5.12.3//NONSGML v1.0//EN
CALSCALE:GREGORIAN
METHOD:PUBLISH
X-WR-CALNAME:CPE des rires
X-ORIGINAL-URL:https://www.cpedesrires.com
X-WR-CALDESC:Events for CPE des rires
BEGIN:VEVENT
DTSTART;TZID=America/New_York:20230130T080000
DTEND;TZID=America/New_York:20230203T170000
DTSTAMP:20260423T195134
CREATED:20230125T193001Z
LAST-MODIFIED:20230125T193238Z
UID:6039-1675065600-1675443600@www.cpedesrires.com
SUMMARY:Semaine des émotions
DESCRIPTION:
URL:https://www.cpedesrires.com/event/les-emotions/
CATEGORIES:Saint-Faustin-Lac-Carré
END:VEVENT
END:VCALENDAR