BEGIN:VCALENDAR
VERSION:2.0
PRODID:-//CPE des rires - ECPv4.5.12.3//NONSGML v1.0//EN
CALSCALE:GREGORIAN
METHOD:PUBLISH
X-WR-CALNAME:CPE des rires
X-ORIGINAL-URL:https://www.cpedesrires.com
X-WR-CALDESC:Events for CPE des rires
BEGIN:VEVENT
DTSTART;TZID=America/New_York:20230206T080000
DTEND;TZID=America/New_York:20230210T170000
DTSTAMP:20260423T195306
CREATED:20230125T193109Z
LAST-MODIFIED:20230125T193109Z
UID:6041-1675670400-1676048400@www.cpedesrires.com
SUMMARY:Semaine de la St-Valentin
DESCRIPTION:
URL:https://www.cpedesrires.com/event/semaine-de-st-valentin/
CATEGORIES:Saint-Faustin-Lac-Carré
END:VEVENT
END:VCALENDAR