BEGIN:VCALENDAR
VERSION:2.0
PRODID:-//CPE des rires - ECPv4.5.12.3//NONSGML v1.0//EN
CALSCALE:GREGORIAN
METHOD:PUBLISH
X-WR-CALNAME:CPE des rires
X-ORIGINAL-URL:https://www.cpedesrires.com
X-WR-CALDESC:Events for CPE des rires
BEGIN:VEVENT
DTSTART;TZID=America/New_York:20230213T080000
DTEND;TZID=America/New_York:20230217T170000
DTSTAMP:20260423T181043
CREATED:20230125T193345Z
LAST-MODIFIED:20230125T193345Z
UID:6044-1676275200-1676653200@www.cpedesrires.com
SUMMARY:Les sports d'hiver
DESCRIPTION:Cette semaine\, nous explorons les différents sports d’hiver \n
URL:https://www.cpedesrires.com/event/les-sports-dhiver/
CATEGORIES:Saint-Faustin-Lac-Carré
END:VEVENT
END:VCALENDAR