BEGIN:VCALENDAR
VERSION:2.0
PRODID:-//CPE des rires - ECPv4.5.12.3//NONSGML v1.0//EN
CALSCALE:GREGORIAN
METHOD:PUBLISH
X-WR-CALNAME:CPE des rires
X-ORIGINAL-URL:https://www.cpedesrires.com
X-WR-CALDESC:Events for CPE des rires
BEGIN:VEVENT
DTSTART;VALUE=DATE:20230220
DTEND;VALUE=DATE:20230224
DTSTAMP:20260423T180946
CREATED:20230130T204734Z
LAST-MODIFIED:20230130T204734Z
UID:6054-1676851200-1677283199@www.cpedesrires.com
SUMMARY:OLYMPIADES
DESCRIPTION:Toute la semaine des activités sportives seront proposées à l’intérieur et à l’extérieur. \nPrévoir des vêtements en conséquence. \n  \n
URL:https://www.cpedesrires.com/event/olympiades/
CATEGORIES:Mont-Tremblant
END:VEVENT
BEGIN:VEVENT
DTSTART;TZID=America/New_York:20230220T080000
DTEND;TZID=America/New_York:20230224T170000
DTSTAMP:20260423T180946
CREATED:20230125T193426Z
LAST-MODIFIED:20230125T193426Z
UID:6046-1676880000-1677258000@www.cpedesrires.com
SUMMARY:Les sports d'hiver
DESCRIPTION:Cette semaine\, nous explorons les différents sports d’hiver \n
URL:https://www.cpedesrires.com/event/les-sports-dhiver-2/
CATEGORIES:Saint-Faustin-Lac-Carré
END:VEVENT
END:VCALENDAR