BEGIN:VCALENDAR
VERSION:2.0
PRODID:-//CPE des rires - ECPv4.5.12.3//NONSGML v1.0//EN
CALSCALE:GREGORIAN
METHOD:PUBLISH
X-WR-CALNAME:CPE des rires
X-ORIGINAL-URL:https://www.cpedesrires.com
X-WR-CALDESC:Events for CPE des rires
BEGIN:VEVENT
DTSTART;VALUE=DATE:20230320
DTEND;VALUE=DATE:20230324
DTSTAMP:20260423T164125
CREATED:20230227T162109Z
LAST-MODIFIED:20230227T162109Z
UID:6064-1679270400-1679702399@www.cpedesrires.com
SUMMARY:Activités sur le thème de la cabane à sucre
DESCRIPTION:
URL:https://www.cpedesrires.com/event/activites-theme-de-cabane-a-sucre/
CATEGORIES:Mont-Tremblant
END:VEVENT
END:VCALENDAR