BEGIN:VCALENDAR
VERSION:2.0
PRODID:-//CPE des rires - ECPv4.5.12.3//NONSGML v1.0//EN
CALSCALE:GREGORIAN
METHOD:PUBLISH
X-WR-CALNAME:CPE des rires
X-ORIGINAL-URL:https://www.cpedesrires.com
X-WR-CALDESC:Events for CPE des rires
BEGIN:VEVENT
DTSTART;VALUE=DATE:20230417
DTEND;VALUE=DATE:20230421
DTSTAMP:20260423T151839
CREATED:20230330T160406Z
LAST-MODIFIED:20230330T160548Z
UID:6076-1681689600-1682121599@www.cpedesrires.com
SUMMARY:La salle de motricité se transforme en ferme
DESCRIPTION:
URL:https://www.cpedesrires.com/event/salle-de-motricite-se-transforme-ferme/
CATEGORIES:Mont-Tremblant
END:VEVENT
END:VCALENDAR