BEGIN:VCALENDAR
VERSION:2.0
PRODID:-//CPE des rires - ECPv4.5.12.3//NONSGML v1.0//EN
CALSCALE:GREGORIAN
METHOD:PUBLISH
X-WR-CALNAME:CPE des rires
X-ORIGINAL-URL:https://www.cpedesrires.com
X-WR-CALDESC:Events for CPE des rires
BEGIN:VEVENT
DTSTART;VALUE=DATE:20230529
DTEND;VALUE=DATE:20230602
DTSTAMP:20260423T120616
CREATED:20230529T142755Z
LAST-MODIFIED:20230529T142755Z
UID:6092-1685318400-1685750399@www.cpedesrires.com
SUMMARY:Semaine québécoise des services de gardes éducatifs à l'enfance
DESCRIPTION:
URL:https://www.cpedesrires.com/event/semaine-quebecoise-services-de-gardes-educatifs-a-lenfance/
CATEGORIES:Mont-Tremblant
END:VEVENT
END:VCALENDAR