BEGIN:VCALENDAR
VERSION:2.0
PRODID:-//CPE des rires - ECPv4.5.12.3//NONSGML v1.0//EN
CALSCALE:GREGORIAN
METHOD:PUBLISH
X-WR-CALNAME:CPE des rires
X-ORIGINAL-URL:https://www.cpedesrires.com
X-WR-CALDESC:Events for CPE des rires
BEGIN:VEVENT
DTSTART;VALUE=DATE:20231002
DTEND;VALUE=DATE:20231006
DTSTAMP:20260423T054544
CREATED:20230921T191823Z
LAST-MODIFIED:20230921T191823Z
UID:6275-1696204800-1696636799@www.cpedesrires.com
SUMMARY:collectif d'automne extérieur
DESCRIPTION:
URL:https://www.cpedesrires.com/event/collectif-dautomne-exterieur/
CATEGORIES:Mont-Tremblant
END:VEVENT
END:VCALENDAR